Workbook
Name Vẽ_kỹ_thuật___CKThầy_Phi: #REF!
Name Vẽ_kỹ_thuật___CKThầy_Phi: #REF!
Name Vẽ_kỹ_thuật___CKThầy_Phi: #REF!
Name Vẽ_kỹ_thuật___CKThầy_Phi: #REF!

Sheet Khoa điện 
F1: THỜI KHÓA BIỂU KHOA ĐIỆN(1) | J1: THỜI KHÓA BIỂU KHOA ĐIỆN(2) | P1: THỜI KHÓA BIỂU KHOA ĐIỆN(3) | U1: THỜI KHÓA BIỂU KHOA ĐIỆN(4) | Y1: THỜI KHÓA BIỂU KHOA ĐIỆN(5) | AC1: THỜI KHÓA BIỂU KHOA ĐIỆN(6) | AF1: THỜI KHÓA BIỂU KHOA ĐIỆN(7)
F2: CÓ HIỆU LỰC TỪ TUẦN 05/10/2026 ĐẾN 09/10/2026 | J2: CÓ HIỆU LỰC TỪ TUẦN 05/10/2026 ĐẾN 09/10/2026 | P2: CÓ HIỆU LỰC TỪ TUẦN 05/10/2026 ĐẾN 09/10/2026 | U2: CÓ HIỆU LỰC TỪ TUẦN 05/10/2026 ĐẾN 09/10/2026 | Y2: CÓ HIỆU LỰC TỪ TUẦN 05/10/2026 ĐẾN 09/10/2026 | AC2: CÓ HIỆU LỰC TỪ TUẦN 05/10/2026 ĐẾN 09/10/2026 | AF2: CÓ HIỆU LỰC TỪ TUẦN 05/10/2026 ĐẾN 09/10/2026
A4: Tuần 09 | B4: LỚP / NGHỀ | E4: CĐ1-K48 | F4: TĐL1-K49 | G4: TĐL2-K49 | H4: TCĐT1-K49 | I4: TCĐT2-K49 | J4: TĐ1-K49 (Nhóm 1) | K4: TĐ1-K49(Nhóm 2) | L4: TĐ2-K49 | M4: TCNTT1-K49 | N4: TCNTT2-K49 | O4: TCNTT3-K49 | P4: TDD1-K49 | Q4: TĐN1-K49 | R4: CĐ1-K49 | S4: CĐT1-K49 | T4: CĐT2-K49 | U4: TĐL1-K50 | V4: TCĐT1-K50 | W4: TCĐT2-K50 | X4: TĐ1-K50 | Y4: TĐ2-K50 | Z4: TCNTT1-K50 | AA4: TCNTT2-K50 | AB4: TCNTT3-K50 | AC4: TDD1-K50 | AD4: TDD2-K50 | AE4: TĐN1-K50 | AF4: CĐL1-K50 | AG4: CĐ1-K50 | AH4: CĐT1-K50
E5: Điện CN (7_ T. Tiến) | F5: KTML&ĐHKK (23_ T. Tiến) | G5: KTML&ĐHKK (20_ T. Bao) | H5: Cơ điện tử (30_C. Thủy) | I5: Cơ điện tử (31_ T. Nghĩa) | J5: Điện CN (27_ C. Tuyết) | K5: Điện CN (27_ C. Tuyết) | L5: Điện CN (24_ T. ĐDũng) | M5: KTSC, LRMT (27_ C. Huyền) | N5: KTSC, LRMT (30_ C. Nhung) | O5: KTSC, LRMT (28_ C. Điệp) | P5: Điện dân dụng (16_C. Đinh Tâm) | Q5: Điện nước (18_T. Đạt) | R5: Điện công nghiệp (11_T. Kiên) | S5: Cơ điện tử (11_T. Nam) | T5: Cơ điện tử (05_T. Nam) | U5: KTML&ĐHKK (24_ C. Kim Hoa) | V5: Cơ điện tử (28_C. Oanh) | W5: Cơ điện tử (27_C. Hoa) | X5: Điện CN (30_ T. Kiên) | Y5: Điện CN (31_ T.Ngọc Bình) | Z5: KTSC, LRMT (29_C. Nga) | AA5: KTSC, LRMT (30_C. Lê Hiền) | AB5: KTSC, LRMT (29_C. Điệp) | AC5: Điện dân dụng (23_C. Dung) | AD5: Điện dân dụng (24_C. Chiến) | AE5: Điện nước (20_C. Đinh Tâm) | AF5: KTML & ĐHKK (05_T. Toản) | AG5: Điện công nghiệp (13_T. Thường) | AH5: Cơ điện tử (10_T. Huấn)
B6: PHÒNG/ TIẾT | E6: P. TBĐ GIA DỤNG -tầng 3 NĐN | F6: P. 602 | G6: P.THĐHKKDD&TM (Tầng7 - NĐN) | H6: P. Truyền động điện - T3 | J6: P. KT LĐ Đ | K6: P. VHSCMĐ | L6: P. TBĐ2 | N6: P. ĐTƯD | O6: P. ĐTCB tầng 3 | P6: P. TH Hệ thống điện DD - T2 NĐN | Q6: P. LĐ thiết bị dùng nước (tầng 2-NĐN) | R6: P. TBĐ2 | T6: P. 604 (ghép CO1 - K50) | U6: P. 602 | V6: P. 606 | W6: P. 607 | X6: P. 603 | Y6: P. 806 | Z6: P. THCB tầng 5 | AA6: P. 605 | AB6: P. 706 | AC6: P. 712 | AD6: P. 713 | AE6: P. 705 | AF6: P. 605 (ghép lớp)
B7: THỨ 2 | C7: SÁNG | D7: Tiết 1.2 | F7: Kỹ năng mềm | G7: LĐ HT máy lạnh thương nghiệp | J7: LĐ, VH, bảo trì HT điện công trình | K7: LĐ, VH, bảo trì HT điện công trình | L7: LĐ, BT và vận hành HT CC điện | P7: Máy điện | Q7: Trang bị điện | T7: Pháp luật (2h) C. Hà | AF7: Giáo dục chính trị | AI7: =COUNTA(E7:AH7) -> 9
D8: Tiết 3.4 | F8: 6h | G8: (5h) T. Bao + C. Kim Hoa | J8: (4h) T. Đặng Dũng | K8: (4h) T. Bình | L8: (5h) T. Kiên | P8: (5h) C. Đinh Tâm | Q8: (5h) T. Diệp | S8: LAO ĐỘNG | T8: GD chính trị (4h) C. Thúy | AF8: (4h) C. Lan
D9: Tiết 5.6 | F9: T. Lãng | AF9: GD thể chất (2h) T. Quân (NHTC)
C10: CHIỀU | D10: Tiết 1.2 | E10: LTĐK HT tự động thông minh | H10: Điều khiển điện khí nén | N10: Sửa chữa màn hình | O10: Sửa chữa màn hình | R10: Trang bị điện máy công nghiệp | U10: Tiếng Anh (2h) C. Ngô Hiền | V10: Tiếng Anh | W10: Tiếng Anh | X10: Giáo dục chính trị | Y10: Vẽ kỹ thuật điện | Z10: Tin học | AA10: An toàn điện (2h) T. Kim Anh | AB10: Giáo dục chính trị | AC10: An toàn điện (2h) KTKT T. Trần Cường + C. Đinh Tâm | AD10: An toàn điện | AE10: Mạch điện (2h) C. Dung | AI10: =COUNTA(E10:AH10) -> 16
D11: Tiết 3.4 | E11: (5h) | H11: (5h) T. Nghĩa | N11: (5h) T. Trình | O11: (5h) T. Huấn | R11: (4h) T. Kiên | U11: An toàn lao động điện lạnh (4h) | V11: (6h) C. Thư | W11: (6h) | X11: (4h) C. Lan | Y11: (4h) C. Sơn | Z11: (6h) | AA11: GD chính trị (4h) | AB11: (6h) C. Giang | AC11: Tiếng Anh (4h) C. Ngô Hiền | AD11: (6h) T. Chiến | AE11: Vẽ kỹ thuật điện (4h) C. Dung
D12: Tiết 5.6 | E12: T. Thường | U12: T. Toản | W12: C. Huế | X12: Giáo dục thể chất (2h) T. Thao (NHTC) | Y12: An toàn điện (1h) T.Kim Anh | Z12: C. Nga | AA12: C. Thúy
B13: PHÒNG/ TIẾT | E13: P. TBĐ GIA DỤNG -tầng 3 NĐN | F13: P. THĐHKKTT (Tầng 2 - NĐN) | I13: P. Truyền động điện -tầng 3 | J13: P. KT LĐ Đ | K13: P. VHSCMĐ | L13: P. LT PLC | M13: P. ĐTƯD | O13: P. ĐTCB tầng 3 | P13: P. TBĐ1 - Tầng 4 NĐN | Q13: P. LĐ thiết bị dùng nước ( tầng 2-NĐN) | T13: P. 705 (ghép CO1 - K50) | AF13: P. 605 (ghép lớp)
B14: THỨ 3 | C14: SÁNG | D14: Tiết 1.2 | F14: LĐHTĐHKKCB1 | J14: LĐ, VH, bảo trì HT điện công trình | K14: LĐ, VH, bảo trì HT điện công trình | L14: PLC Cơ bản | P14: Trang bị điện | Q14: Trang bị điện | T14: GD thể chất (4h) T. Thao (NHTC) | AF14: Pháp luật (2h) C. Hà | AI14: =COUNTA(E14:AH14) -> 8
D15: Tiết 3.4 | F15: 5h | J15: (3h) KTKT T. Đặng Dũng + T. Bình | K15: (3h) KTKT T. Đặng Dũng + T. Bình | L15: (5h) | P15: (5h) | Q15: (5h) T. Diệp | S15: LAO ĐỘNG | AF15: Giáo dục chính trị
D16: Tiết 5.6 | F16: C. Kim Hoa | L16: T. Đỗ Cường | P16: T. Chiến | T16: Pháp luật (2h) C. Hà | AF16: (4h) C. Lan
C17: CHIỀU | D17: Tiết 1.2 | E17: LTĐK HT tự động thông minh | I17: Điều khiển điện khí nén | M17: Sửa chữa màn hình | O17: Sửa chữa màn hình | AI17: =COUNTA(E17:AH17) -> 4
D18: Tiết 3.4 | E18: (5h) | I18: (4h) C. Hoa | M18: (5h) | O18: (5h) T. Huấn
D19: Tiết 5.6 | E19: T. Thường | M19: T. Trình
B20: PHÒNG/ TIẾT | E20: P. 713 | H20: P.CĐT - tầng 3 | I20: P. Truyền động điện -tầng 3 | N20: P. ĐTƯD | R20: P. KT LĐ Đ | T20: P. 604 (ghép CO1 - K50) | U20: P. 602 | V20: P. 606 | W20: P. THCB tầng 5 | X20: P. 603 | Y20: P. 604 | Z20: P. 705 | AA20: P. 605 | AB20: P. 706 | AC20: P. 712 | AD20: P. 713 | AE20: P. 607 | AF20: P. 805 (ghép lớp)
B21: THỨ 4 | C21: SÁNG | D21: Tiết 1.2 | E21: Kỹ năng mềm | R21: LĐ, BT và VH HTcung cấp điện | T21: GD thể chất (2h) T. Thao (NHTC) | AI21: =COUNTA(E21:AH21) -> 3
D22: Tiết 3.4 | E22: (4h) C. Minh | R22: (4h) T. Đặng Dũng | S22: LAO ĐỘNG | T22: GD chính trị (4h) C. Thúy
D23: Tiết 5.6
C24: CHIỀU | D24: Tiết 1.2 | H24: Lập trình PLC | I24: Điều khiển điện khí nén | N24: Sửa chữa màn hình | U24: Giáo dục chính trị (2h) C. Thúy | V24: GD thể chất (2h) T. Thao (NHTC) | W24: Tin học (1h) C. Nga | X24: Mạch điện (2h) KTKT T. Hiếu + C. Sơn | Y24: Tiếng Anh | Z24: Pháp luật (2h) C. Hà | AA24: Tiếng Anh (2h) C. Thư | AB24: Tiếng Anh | AC24: Mạch điện (2h) KTKT C. Dung + C. Đinh Tâm | AD24: Giáo dục chính trị | AE24: Tiếng Anh | AF24: GD thể chất (2h) T. Quân (NHTC) | AI24: =COUNTA(E24:AH24) -> 15
D25: Tiết 3.4 | H25: (5h) C. Thủy | I25: (3h) KTKT C. Hoa + C. Oanh | N25: (5h) T. Trình | U25: GD thể chất (4h) | V25: Tiếng Anh | W25: Tin học (2h) | X25: Pháp luật (2h) C. Hà | Y25: (6h) C. Hảo | Z25: Giáo dục chính trị (4h) C. Thúy | AA25: Kỹ năng mềm (2h) KTKT T. Thái + T. Hiếu | AB25: (6h) | AC25: Vẽ kỹ thuật điện (4h) C. Dung | AD25: (6h) C. Giang | AE25: (6h) C. Huế | AF25: Giáo dục chính trị
D26: Tiết 5.6 | U26: T. Quân (NHTC) | V26: (4h) C. Thư | W26: KTKT C. Nga + C. Hiền | X26: Giáo dục thể chất (2h) T. Thao (NHTC) | AA26: Pháp luật (2h) C. Hà | AB26: C. Ngô Hiền | AF26: (4h) C. Lan
B27: PHÒNG/ TIẾT | E27: P.ƯDCĐT - tầng 3 | G27: P.THĐHKKDD&TM (Tầng7 - NĐN) | I27: Xưởng tiện | M27: ĐTCB tầng 3 | R27: P. KT LĐ Đ | T27: P. 705 (ghép CO1 - K50) | U27: P. 602 | V27: P. 606 | W27: P. 705 | X27: P. 603 | Y27: P. 604 | Z27: P. 607 | AA27: P. 605 | AB27: P. 706 | AC27: P. 806 | AD27: P. 713 | AE27: P. 712 | AF27: P. THĐHKKTT(Tầng 2 NĐN) | AG27: P. 606 | AH27: P. ĐTCB - tầng 3
B28: THỨ 5 | C28: SÁNG | D28: Tiết 1.2 | G28: LĐ HT máy lạnh thương nghiệp | T28: GD chính trị (2h) C. Thúy | AF28: An toàn lao động điện lạnh | AG28: An toàn điện (2h) T. Kim Anh | AH28: Vẽ kỹ thuật điện | AI28: =COUNTA(E28:AH28) -> 5
D29: Tiết 3.4 | G29: (5h) T. Bao + C. Kim Hoa | T29: GD thể chất (4h) T. Thao (NHTC) | AF29: (6h) | AG29: Mạch điện (4h) T. Hiếu | AH29: (6h)
D30: Tiết 5.6 | AF30: T. Tiến | AH30: C. Oanh
C31: CHIỀU | D31: Tiết 1.2 | E31: Vận hành robot công nghiệp | I31: Gia công cơ khí trên máy công cụ | M31: Sửa chữa bộ nguồn | R31: LĐ, BT và VH HTcung cấp điện | U31: Giáo dục chính trị (2h) C. Thúy | V31: GD thể chất (2h) T. Thao (NHTC) | W31: An toàn điện | X31: Tiếng Anh | Y31: Giáo dục chính trị (2h) C. Lan | Z31: Tiếng Anh | AA31: Tiếng Anh | AB31: AT điện (2h) KTKT C. Sơn + C. Tuyết | AC31: Vẽ kỹ thuật điện | AD31: Mạch điện | AE31: An toàn điện | AI31: =COUNTA(E31:AH31) -> 15
D32: Tiết 3.4 | E32: (5h) | I32: (5h) T. Thanh | M32: (5h) T. Huấn | R32: (4h) T. Đặng Dũng | U32: Tiếng Anh | V32: Mạch điện (4h) C. Thịnh | W32: (6h) T. Nghĩa | X32: (6h) | Y32: Giáo dục thể chất (4h) | Z32: (6h) C. Huế | AA32: (6h) | AB32: GD thể chất (4h) | AC32: (6h) | AD32: (6h) | AE32: (6h)
D33: Tiết 5.6 | E33: T. Giang | U33: (4h) C. Ngô Hiền | X33: C. Hảo | Y33: T. Thao (NHTC) | AA33: C. Thư | AB33: T. Quân (NHTC) | AC33: C. Dung | AD33: C. Minh | AE33: T. Chiến
B34: PHÒNG/ TIẾT | E34: P.ƯDCĐT - tầng 3 | F34: P.THMLDD&TM (Tầng7-NĐN) | G34: P.THĐHKKDD&TM (Tầng7 - NĐN) | H34: P.CĐT - tầng 3 | J34: P. TBĐ2 | L34: P. LT PLC | M34: P. ĐTƯD | N34: ĐTCB tầng 3 | O34: P. TBĐ2 | P34: P. TBĐ1 - Tầng 4 NĐN | Q34: P. LĐ thiết bị dùng nước ( tầng 2-NĐN) | R34: P. TBĐ2 | T34: P. 607 (ghép CO1 - K50) | AF34: P. 605 (ghép lớp) | AH34: P. ĐTCB - tầng 3
B35: THỨ 6 | C35: SÁNG | D35: Tiết 1.2 | F35: LĐ HT máy lạnh thương nghiệp | G35: LĐ HT ML thương nghiệp (2h) T. Bao | J35: Lắp đặt, bảo trì và vận hành hệ thống cung cấp điện | L35: PLC Cơ bản | P35: Trang bị điện | Q35: Trang bị điện | T35: Pháp luật (2h) C. Hà | AF35: Vẽ KT điện | AH35: An toàn điện | AI35: =COUNTA(E35:AH35) -> 11
D36: Tiết 3.4 | F36: (5h) T. Toản + T Đỗ Kiên | G36: LĐ HT máy lạnh thương nghiệp | J36: (5h) T. Kiên | L36: (5h) | P36: (5h) | Q36: (5h) T. Diệp | T36: GD thể chất (4h) T. Thao (NHTC) | AF36: (6h) | AH36: (6h)
D37: Tiết 5.6 | G37: (3h) KTKT T. Bao + C. Kim Hoa | L37: T. Đỗ Cường | P37: T. Chiến | AF37: C. Sơn | AH37: T. Huấn
C38: CHIỀU | D38: Tiết 1.2 | E38: Vận hành robot công nghiệp | H38: Lập trình PLC | M38: Sửa chữa màn hình | N38: Sửa chữa bộ nguồn | O38: Sửa chữa bộ nguồn | R38: Trang bị điện máy công nghiệp | AI38: =COUNTA(E38:AH38) -> 6
D39: Tiết 3.4 | E39: (5h) | H39: (5h) C. Thủy | M39: (5h) | N39: (5h) T. Huấn | O39: (5h) C. Tuyết | R39: (4h) T. Kiên
D40: Tiết 5.6 | E40: T. Giang | M40: T. Trình
E41: KT. HIỆU TRƯỞNG | G41: PHÒNG ĐÀO TẠO VÀ CTHSSV | I41: NGƯỜI LẬP | J41: KT. HIỆU TRƯỞNG | L41: PHÒNG ĐÀO TẠO VÀ CTHSSV | O41: NGƯỜI LẬP | P41: KT. HIỆU TRƯỞNG | Q41: PHÒNG ĐÀO TẠO VÀ CTHSSV | S41: NGƯỜI LẬP | U41: KT. HIỆU TRƯỞNG | V41: PHÒNG ĐÀO TẠO VÀ CTHSSV | X41: NGƯỜI LẬP | Y41: KT. HIỆU TRƯỞNG | Z41: PHÒNG ĐÀO TẠO VÀ CTHSSV | AB41: NGƯỜI LẬP | AC41: KT. HIỆU TRƯỞNG | AD41: PHÒNG ĐÀO TẠO VÀ CTHSSV | AE41: NGƯỜI LẬP | AF41: KT. HIỆU TRƯỞNG | AG41: PHÒNG ĐÀO TẠO VÀ CTHSSV | AH41: NGƯỜI LẬP
...

Sheet Khoa MXD 
D1: THỜI KHÓA BIỂU KHOA MXD (1) | G1: THỜI KHÓA BIỂU KHOA MXD (2) | K1: THỜI KHÓA BIỂU KHOA MXD (3)
D2: CÓ HIỆU LỰC TỪ TUẦN 05/10/2026 ĐẾN 09/10/2026 | G2: CÓ HIỆU LỰC TỪ TUẦN 05/10/2026 ĐẾN 09/10/2026 | K2: CÓ HIỆU LỰC TỪ TUẦN 05/10/2026 ĐẾN 09/10/2026
A3: LỚP | D3: CO1-K48 | E3: TO1-K49 | F3: TO2-K49 | G3: TN1-K49 | H3: TCCT1-K49 | I3: TSC1-K49 | J3: CO1-K49 | K3: TO1-K50 | L3: TO2-K50 | M3: TN1-K50 | N3: TLGT1-K50 | O3: CO1-K50
D4: Công nghệ ô tô (8_ T. Quang) | E4: CN ô tô (22_ T. Long) | F4: CN ô tô (27_ T. Hướng) | G4: VH máy TCN (11_ T. Đỗ Hùng) | H4: VH cần cầu trục (5_ T. Oanh) | I4: SC máy TC XD (23_ T. Quảng) | J4: CN Ô TÔ (10_ NM Hùng) | K4: CN ô tô (25_ T. Kiên) | L4: CN ô tô (24_ T. Tuấn Anh) | M4: VH máy TCN (21_ T. Như Hùng) | N4: Logistic (26_ T. Quang) | O4: CN ô tô (13_ T. Tuấn Anh)
A5: PHÒNG/ TIẾT | D5: P. Trang bị điện tầng 3 nhà CNC | E5: P. Gầm 1 tầng 2 nhà CNC | F5: P. Trang bị điện tầng 3 nhà CNC | G5: P. C6 Cưởng C | H5: Xưởng xe máy | I5: P. Gầm 2 T2 nhà CNC | J5: P. Gầm 1 tầng 2 nhà CNC | O5: P. 604 (ghép CĐT2 - K49)
A6: THỨ 2 | B6: SÁNG | C6: Tiết 1.2 | D6: Chăm sóc, làm đẹp xe ô tô | F6: Bảo dưỡng, sửa chữa trang bị điện ôtô | G6: Bảo dưỡng Hệ thống thủy lực | H6: Kỹ thuật thi công | I6: Bảo dưỡng, sửa chữa hệ thống truyền lực | J6: Bảo dưỡng, sửa chữa hệ thống lái và di chuyển | O6: Pháp luật (2h) C. Hà | P6: =COUNTA(D6:O6) -> 7
C7: Tiết 3.4 | D7: (6h) T. Kiên | F7: (5h) T. Quảng | G7: (5h) T. Minh | H7: (6h) | I7: (5h) | J7: (5h) | O7: GD chính trị (4h) C. Thúy
C8: Tiết 5.6 | H8: T. Oanh | I8: T. Trọng Bình | J8: T. Tuấn Anh
B9: CHIỀU | C9: Tiết 1.2 | E9: BD, sửa chữa hệ thống nhiên liệu động cơ xăng 1 | P9: =COUNTA(D9:O9) -> 1
C10: Tiết 3.4 | E10: (5h) T. Tuấn Anh
C11: Tiết 5.6
A12: PHÒNG/ TIẾT | D12: P. Trang bị điện tầng 3 nhà CNC | E12: P. Gầm 2 tầng 2 nhà CNC | F12: P. Gầm 1 tầng 2 nhà CNC | H12: Xưởng xe máy | I12: P. Gầm 2 T2 nhà CNC | J12: P. KT Kiểm định T2 nhà CNC- Xưởng Xe máy | K12: P. 603 | L12: P. 606 | M12: P. 607 | N12: P. 705 | O12: P. 705 (ghép CĐT2 - K49)
A13: THỨ 3 | B13: SÁNG | C13: Tiết 1.2 | D13: Chăm sóc, làm đẹp xe ô tô | F13: BD, sửa chữa hệ thống nhiên liệu động cơ xăng 1 | H13: Kỹ thuật thi công | I13: Bảo dưỡng, sửa chữa hệ thống truyền lực | J13: Bảo dưỡng, sửa chữa hệ thống phanh | O13: GD TC (4h) T. Thao (NHTC) | P13: =COUNTA(D13:O13) -> 6
C14: Tiết 3.4 | D14: (6h) T. Kiên | F14: (5h) T. Tuấn Anh | H14: (6h) | I14: (5h) T. Trọng Bình | J14: (5h)
C15: Tiết 5.6 | H15: T. Oanh | J15: T. Quang | O15: Pháp luật (2h) C. Hà
B16: CHIỀU | C16: Tiết 1.2 | E16: Bảo dưỡng, sửa chữa hệ thống lái và di chuyển | K16: KT chung và công nghệ sửa chữa | L16: Vẽ kỹ thuật | M16: Kỹ thuật an toàn và BHLĐ | N16: ATLĐ,SK và MT(2h)KTKT T. Long+T.N M Hùng | P16: =COUNTA(D16:O16) -> 5
C17: Tiết 3.4 | E17: (5h) T. Trọng Bình | K17: (6h) | L17: (6h) | M17: (4h) T. Minh | N17: Giáo dục chính trị (4h)
C18: Tiết 5.6 | K18: T. Oanh | L18: C. Nguyệt | M18: GDTC (2h) T. Quân(NHTC) | N18: C. Lan
A19: PHÒNG/ TIẾT | D19: P. TH Động cơ tầng 2 nhà CNC | G19: Xưởng xe máy | I19: P. TH Động cơ tầng 1 nhà CNC | J19: P. KT Kiểm định T2 nhà CNC- Xưởng Xe máy | K19: P. 603 | L19: P. Điện CB T3 nhà CNC | M19: P. 712 | N19: P. 606 | O19: P. 604 (ghép CĐT2 - K49)
A20: THỨ 4 | B20: SÁNG | C20: Tiết 1.2 | D20: Kinh doanh trong lĩnh vực ô tô và phụ tùng ô tô | G20: Vận hành máy xúc | I20: BD, SC hệ thống nhiên liệu động cơ diesel | J20: Bảo dưỡng, sửa chữa hệ thống phanh | K20: VL CK và DM bôi trơn (2h) T. Minh | L20: Điện cơ bản | M20: DSLG&ĐLKT(2h)KTKT C. Hương + C. Cúc | N20: Tiếng Anh | O20: GD TC (2h) T. Thao (NHTC) | P20: =COUNTA(D20:O20) -> 9
C21: Tiết 3.4 | D21: (2h) KTKT T. Long + T. Tuấn Anh | G21: (5h) | I21: (5h) | J21: (5h) | K21: KT chung và công nghệ sửa chữa | L21: (5h) | M21: GDTC | N21: (6h) C. Hảo | O21: GD chính trị (4h) C. Thúy
C22: Tiết 5.6 | G22: T. Đỗ Hùng | I22: T. Trọng Bình | J22: T. Quang | K22: (4h) T. Oanh | L22: T. Quảng | M22: (4h) T. Quân (NHTC)
B23: CHIỀU | C23: Tiết 1.2 | P23: =COUNTA(D23:O23) -> 0
C24: Tiết 3.4
C25: Tiết 5.6
A26: PHÒNG/ TIẾT | D26: Xưởng xe máy | J26: P. Gầm MXD (C9- Xưởng C) | O26: P. 705 (ghép CĐT2 - K49)
A27: THỨ 5 | B27: SÁNG | C27: Tiết 1.2 | O27: GD chính trị (2h) C. Thúy | P27: =COUNTA(D27:O27) -> 1
C28: Tiết 3.4 | O28: GD TC (4h) T. Thao (NHTC)
C29: Tiết 5.6
B30: CHIỀU | C30: Tiết 1.2 | D30: Kỹ thuật lái ô tô | J30: Bảo dưỡng, sửa chữa hệ thống truyền lực | P30: =COUNTA(D30:O30) -> 2
C31: Tiết 3.4 | D31: (5h) | J31: (5h)
C32: Tiết 5.6 | D32: T. Oanh | J32: T. NM Hùng + T. Lợi
A33: PHÒNG/ TIẾT | D33: Xưởng xe máy | E33: P. Gầm 1 tầng 2 nhà CNC | F33: P.Nhiên liệu - tầng 3 nhà CNC | G33: Xưởng xe máy | H33: Xưởng xe máy | J33: P. Gầm MXD (C9- Xưởng C) | K33: P. 706 | L33: P. 606 | M33: P. 607 | N33: P. 705 | O33: P. 607 (ghép CĐT2 - K49)
A34: THỨ 6 | B34: SÁNG | C34: Tiết 1.2 | D34: Kỹ thuật lái ô tô | F34: BD, sửa chữa hệ thống nhiên liệu động cơ diesel 1 | G34: Vận hành máy xúc | H34: Vận hành và bảo dưỡng cầu trục | J34: Bảo dưỡng, sửa chữa hệ thống truyền lực | O34: Pháp luật (2h) C. Hà | P34: =COUNTA(D34:O34) -> 6
C35: Tiết 3.4 | D35: (5h) | F35: (5h) T. Ngát | G35: (5h) | H35: (5h) T. Hướng | J35: (5h) T. NM Hùng + T. Lợi | O35: GD thể chất (4h) T. Thao (NHTC)
C36: Tiết 5.6 | D36: T. Oanh | G36: T. Đỗ Hùng
B37: CHIỀU | C37: Tiết 1.2 | E37: BD, sửa chữa hệ thống nhiên liệu động cơ xăng 1 | K37: DSLG và đo lường kỹ thuật | L37: KT chung & công nghệ SC | M37: Vật liệu cơ khí và dầu mỡ bôi trơn (2h) T. Oanh | N37: Giáo dục chính trị (2h) C. Lan | P37: =COUNTA(D37:O37) -> 5
C38: Tiết 3.4 | E38: (5h) T. Tuấn Anh | K38: (4h) C. Cúc | L38: (6h) | M38: Vẽ kỹ thuật | N38: Thuế (4h)
C39: Tiết 5.6 | K39: KN chuẩn bị TH CV (2h) T. Đỗ Hùng | L39: T. NM Hùng | M39: (4h) C. Nguyệt | N39: C. Lưu Hương
D40: KT. HIỆU TRƯỞNG PHÓ HIỆU TRƯỞNG | E40: PHÒNG ĐÀO TẠO VÀ CTHSSV | F40: NGƯỜI LẬP | G40: KT. HIỆU TRƯỞNG PHÓ HIỆU TRƯỞNG | H40: PHÒNG ĐÀO TẠO VÀ CTHSSV | J40: NGƯỜI LẬP | K40: KT. HIỆU TRƯỞNG PHÓ HIỆU TRƯỞNG | L40: PHÒNG ĐÀO TẠO VÀ CTHSSV | O40: NGƯỜI LẬP
...

Sheet Khoa CK
D1: THỜI KHÓA BIỂU KHOA CƠ KHÍ (1) | H1: THỜI KHÓA BIỂU KHOA CƠ KHÍ (2)
D2: CÓ HIỆU LỰC TỪ TUẦN 05/10/2026 ĐẾN 09/10/2026 | H2: CÓ HIỆU LỰC TỪ TUẦN 05/10/2026 ĐẾN 09/10/2026
A3: LỚP | D3: CH1-K48 | E3: TH1-K49 | F3: TCG1-K49 | G3: TLM1-K49 | H3: CH1-K49 | I3: TH1-K50 | J3: TLM1-K50 | K3: TCG1-K50
D4: Hàn (8_ T. Bình) | E4: Hàn (15_ C. Hải) | F4: Cắt gọt KL (14_ C. Cúc) | G4: LĐ TBCK (22_ T. Thà) | H4: Hàn (13_ T. Thông) | I4: Hàn (24_ T. Trị) | J4: LĐ TBCK (14_ T. TM Hùng) | K4: Cắt gọt KL (21_ C. Hương)
A5: PHÒNG/ TIẾT | D5: P. Hàn Đức | E5: P. HCB1 | F5: P. CAD/CAM 1 | H5: P. CAD/CAM 2
A6: THỨ 2 | B6: SÁNG | C6: Tiết 1.2 | D6: Robot hàn | E6: Hàn MAG cơ bản | L6: =COUNTA(D6:K6) -> 2
C7: Tiết 3.4 | D7: (5h) | E7: (5h) C. Hải
C8: Tiết 5.6 | D8: T. Tiến Bình
B9: CHIỀU | C9: Tiết 1.2 | F9: Tiện CNC | H9: Autocad | L9: =COUNTA(D9:K9) -> 2
C10: Tiết 3.4 | F10: (5h) | H10: (5h) T. Phi
C11: Tiết 5.6 | F11: T. Thanh
A12: PHÒNG/ TIẾT | D12: P. Cắt gas | E12: P. Cắt gas | F12: P. CAD/CAM 1 | G12: P. LM1 | H12: P. 607 | I12: P. KTCS tầng 6 | J12: P. 605 (ghép)
A13: THỨ 3 | B13: SÁNG | C13: Tiết 1.2 | E13: Hàn khí | H13: Ngoại Ngữ(Tiếng Anh) | L13: =COUNTA(D13:K13) -> 2
C14: Tiết 3.4 | E14: (5h) | H14: (6h) C. Hảo
C15: Tiết 5.6 | E15: T. Bình + T. Duy
B16: CHIỀU | C16: Tiết 1.2 | D16: Hàn tự động dưới lớp thuốc | F16: Tiện CNC | G16: Lắp đặt máy gia công kim loại | I16: Vật liệu cơ khí | J16: Kỹ thuật an toàn và bảo hộ lao động | L16: =COUNTA(D16:K16) -> 5
C17: Tiết 3.4 | D17: (5h) | F17: (5h) | G17: (5h) T. Thà | I17: (6h) | J17: (6h)
C18: Tiết 5.6 | D18: T. Trị | F18: T. Thanh | I18: C. Hương | J18: C. Cúc
A19: PHÒNG/ TIẾT | D19: P. KTCS tầng 6 | G19: P. LM2 | H19: P. HNC1 | I19: P. 607 | J19: P. THCK 1 | K19: P. 705
A20: THỨ 4 | B20: SÁNG | C20: Tiết 1.2 | D20: Hệ thống quản lý chất lượng ISO | H20: Hàn TIG cơ bản | I20: Kỹ thuật điện - Điện tử công nghiệp | J20: Nguội cơ bản | K20: Nguyên Lý- Chi tiết máy | L20: =COUNTA(D20:K20) -> 5
C21: Tiết 3.4 | D21: (6h) | H21: (5h) T. Năm | I21: (4h) T. Huấn | J21: (5h) | K21: (6h)
C22: Tiết 5.6 | D22: C. Hải | I22: Vật liệu cơ khí (2h) C. Hương | J22: T. Hà | K22: C. Nguyệt
B23: CHIỀU | C23: Tiết 1.2 | G23: Lắp đặt máy bơm | L23: =COUNTA(D23:K23) -> 1
C24: Tiết 3.4 | G24: (5h) T. Hà
C25: Tiết 5.6
A26: PHÒNG/ TIẾT | D26: P. Hàn Đức | E26: P. HCB1 | H26: P. Cắt gas
A27: THỨ 5 | B27: SÁNG | C27: Tiết 1.2 | D27: Robot hàn | E27: Hàn MAG cơ bản | H27: Hàn hồ quang tay nâng cao | L27: =COUNTA(D27:K27) -> 3
C28: Tiết 3.4 | D28: (5h) T. Tiến Bình | E28: (5h) C. Hải | H28: (5h)
C29: Tiết 5.6 | H29: T. Trị
B30: CHIỀU | C30: Tiết 1.2 | L30: =COUNTA(D30:K30) -> 0
C31: Tiết 3.4
C32: Tiết 5.6
A33: PHÒNG/ TIẾT | D33: P. HNC1 | F33: P. CAD/CAM 1 | G33: P. LM1 | H33: P. HNC1 | I33: P. KTCS tầng 6 | J33: P. 605 (ghép)
A34: THỨ 6 | B34: SÁNG | C34: Tiết 1.2 | H34: Hàn TIG cơ bản | L34: =COUNTA(D34:K34) -> 3
C35: Tiết 3.4 | H35: (5h) T. Năm
C36: Tiết 5.6
B37: CHIỀU | C37: Tiết 1.2 | D37: Hàn kim loại và hợp kim màu | F37: Tiện CNC | G37: Lắp đặt băng tải | I37: Công nghệ kỹ thuật hàn | J37: DS lắp ghép và đo lường kỹ thuật (2h) C. Nguyệt | L37: =COUNTA(D37:K37) -> 5
C38: Tiết 3.4 | D38: (5h) | F38: (5h) T. Thanh | G38: (5h) T. TM Hùng | I38: (6h) C. Hải | J38: Vẽ kỹ thuật cơ khí (4h) C. Hương
C39: Tiết 5.6 | D39: T. Năm
D40: KT. HIỆU TRƯỞNG | E40: PHÒNG ĐÀO TẠO VÀ CTHSSV | G40: NGƯỜI LẬP | H40: KT. HIỆU TRƯỞNG | I40: PHÒNG ĐÀO TẠO VÀ CTHSSV | K40: NGƯỜI LẬP
...

Sheet Khoa CB
D1: THỜI KHÓA BIỀU KHOA CƠ BẢN (1)
D2: CÓ HIỆU LỰC TỪ TUẦN 05/10/2026 ĐẾN 09/10/2026
A3: LỚP | D3: TKT1-K49 | E3: TKT2-K49 | F3: TKT3-K49 | G3: TKT1-K50 | H3: TKT2-K50
D4: KT DN (18_ C. Hoàng Hà) | E4: KT DN (21_ C. Chu Hiền) | F4: KT DN (20_ C. Lan) | G4: KT DN (25_ C. Chu Hiền) | H4: KT DN (25_ C. Lan)
A5: PHÒNG/ TIẾT | D5: P. Lab | E5: P. 604 | F5: P. Lab
A6: THỨ 2 | B6: SÁNG | C6: Tiết 1.2 | F6: Tài chính doanh nghiệp | I6: =COUNTA(D6:H6) -> 1 | J6: =SUM('Khoa điện '!AI7,'Khoa MXD '!P6,'Khoa CK'!L6,'Khoa CB'!I6) -> 19
C7: Tiết 3.4 | F7: (6h)
C8: Tiết 5.6 | F8: C. Chu Hiền
B9: CHIỀU | C9: Tiết 1.2 | D9: Kế toán doanh nghiệp 2 | E9: Tài chính doanh nghiệp | I9: =COUNTA(D9:H9) -> 2 | J9: =SUM('Khoa điện '!AI10,'Khoa MXD '!P9,'Khoa CK'!L9,'Khoa CB'!I9) -> 21
C10: Tiết 3.4 | D10: (5h) T. Lâm | E10: (6h) C. Ng Hiền (TQ)
C11: Tiết 5.6
A12: PHÒNG/ TIẾT | D12: P. Lab | E12: P. 602 | F12: P. Lab | G12: P. 604 | H12: P. 706
A13: THỨ 3 | B13: SÁNG | C13: Tiết 1.2 | F13: Kế toán doanh nghiệp 2 | I13: =COUNTA(D13:H13) -> 1 | J13: =SUM('Khoa điện '!AI14,'Khoa MXD '!P13,'Khoa CK'!L13,'Khoa CB'!I13) -> 17
C14: Tiết 3.4 | F14: (5h)
C15: Tiết 5.6 | F15: C. Ng Hiền (TQ)
B16: CHIỀU | C16: Tiết 1.2 | D16: Tài chính doanh nghiệp | E16: Thuế | G16: Giáo dục chính trị (2h) C. Thúy | H16: Kinh tế vi mô | I16: =COUNTA(D16:H16) -> 4 | J16: =SUM('Khoa điện '!AI17,'Khoa MXD '!P16,'Khoa CK'!L16,'Khoa CB'!I16) -> 18
C17: Tiết 3.4 | D17: (6h) | E17: (6h) C. Diệp | G17: Giáo dục thể chất (2h) T. Thao (NHTC) | H17: (6h)
C18: Tiết 5.6 | D18: C. Chu Hiền | G18: Pháp luật (2h) C. Hà | H18: C. Lưu Hương
A19: PHÒNG/ TIẾT | G19: P. 605 | H19: P. 602
A20: THỨ 4 | B20: SÁNG | C20: Tiết 1.2 | G20: Nguyên lý thống kê (2h) C. Lưu Hương | H20: GD thể chất (2h) T. Quân (NHTC) | I20: =COUNTA(D20:H20) -> 2 | J20: =SUM('Khoa điện '!AI21,'Khoa MXD '!P20,'Khoa CK'!L20,'Khoa CB'!I20) -> 19
C21: Tiết 3.4 | G21: Giáo dục thể chất (4h) | H21: Giáo dục chính trị (4h)
C22: Tiết 5.6 | G22: T. Thao (NHTC) | H22: C. Lan
B23: CHIỀU | C23: Tiết 1.2 | I23: =COUNTA(D23:H23) -> 2 | J23: =SUM('Khoa điện '!AI24,'Khoa MXD '!P23,'Khoa CK'!L23,'Khoa CB'!I23) -> 18
C24: Tiết 3.4
C25: Tiết 5.6
A26: PHÒNG/ TIẾT
A27: THỨ 5 | B27: SÁNG | C27: Tiết 1.2 | I27: =COUNTA(D27:H27) -> 0 | J27: =SUM('Khoa điện '!AI28,'Khoa MXD '!P27,'Khoa CK'!L27,'Khoa CB'!I27) -> 9
C28: Tiết 3.4
C29: Tiết 5.6
B30: CHIỀU | C30: Tiết 1.2 | I30: =COUNTA(D30:H30) -> 0 | J30: =SUM('Khoa điện '!AI31,'Khoa MXD '!P30,'Khoa CK'!L30,'Khoa CB'!I30) -> 17
C31: Tiết 3.4
C32: Tiết 5.6
A33: PHÒNG/ TIẾT | D33: P. Lab | E33: P. 604 | F33: P. Lab | G33: P. 602 | H33: P. 603
A34: THỨ 6 | B34: SÁNG | C34: Tiết 1.2 | F34: Kế toán doanh nghiệp 2 | I34: =COUNTA(D34:H34) -> 2 | J34: =SUM('Khoa điện '!AI35,'Khoa MXD '!P34,'Khoa CK'!L34,'Khoa CB'!I34) -> 22
C35: Tiết 3.4 | F35: (5h) C. Ng Hiền (TQ)
C36: Tiết 5.6
B37: CHIỀU | C37: Tiết 1.2 | D37: Thuế | E37: Kế toán doanh nghiệp 2 | G37: GD thể chất (2h) KTKT T. Thao + T. Quân (NHTC) | H37: Tiếng Anh | I37: =COUNTA(D37:H37) -> 4 | J37: =SUM('Khoa điện '!AI38,'Khoa MXD '!P37,'Khoa CK'!L37,'Khoa CB'!I37) -> 20
C38: Tiết 3.4 | D38: (6h) C. Diệp | E38: (5h) C. Chu Hiền | G38: Giáo dục chính trị (4h) | H38: (6h)
C39: Tiết 5.6 | G39: C. Thúy | H39: C. Thanh
D41: KT. HIỆU TRƯỞNG | E41: PHÒNG ĐÀO TẠO VÀ CTHSSV | H41: NGƯỜI LẬP
...

Sheet Liên thông K10(đợt 1)
D1: THỜI KHÓA BIỀU LIÊN THÔNG K10 (1) | I1: THỜI KHÓA BIỀU LIÊN THÔNG K10 (2)
D2: CÓ HIỆU LỰC TỪ TUẦN 05/10/2026 ĐẾN 09/10/2026 | I2: CÓ HIỆU LỰC TỪ TUẦN 05/10/2026 ĐẾN 09/10/2026
A3: LỚP | D3: CĐ-LTK10 | E3: CNTT-LTK10 | F3: CĐT-LTK10 | G3: CDD-LTK10 | H3: CH-LTK10 | I3: CĐL-LTK10 | J3: CKT-LTK10 | K3: CO-LTK10
D4: Điện CN (22_ T. Bình) | E4: KTSC&LRMT (19_T. Dũng) | F4: Cơ ĐT (4_T. Toản) | G4: ĐIỆN DD (6_T. Toản) | H4: HÀN (6_T. Thông) | I4: KTML & ĐHKK (6_T. Toản) | J4: KẾ TOÁN DN (13_T. Lâm) | K4: CN Ô TÔ (22_T. Tuấn Anh)
A5: PHÒNG/ TIẾT
A6: THỨ 2 | B6: SÁNG | C6: Tiết 1.2 | D6: THỰC HIỆN CHUYÊN ĐỀ, KHÓA LUẬN TN TỪ NGÀY 19/8/2026 | I6: THỰC HIỆN CHUYÊN ĐỀ, KHÓA LUẬN TN TỪ NGÀY 19/8/2026 | J6: ÔN THI, TRẢ NỢ MÔN HỌC, MĐ | K6: THỰC HIỆN CHUYÊN ĐỀ, KHÓA LUẬN TN TỪ NGÀY 19/8/2026
C7: Tiết 3.4
C8: Tiết 5.6
B9: CHIỀU | C9: Tiết 1.2
C10: Tiết 3.4
C11: Tiết 5.6
A12: PHÒNG/ TIẾT
A13: THỨ 3 | B13: SÁNG | C13: Tiết 1.2
C14: Tiết 3.4
C15: Tiết 5.6
B16: CHIỀU | C16: Tiết 1.2
C17: Tiết 3.4
C18: Tiết 5.6
A19: PHÒNG/ TIẾT
A20: THỨ 4 | B20: SÁNG | C20: Tiết 1.2
C21: Tiết 3.4
C22: Tiết 5.6
B23: CHIỀU | C23: Tiết 1.2
C24: Tiết 3.4
A26: PHÒNG/ TIẾT
A27: THỨ 5 | B27: SÁNG | C27: Tiết 1.2
C28: Tiết 3.4
C29: Tiết 5.6
B30: CHIỀU | C30: Tiết 1.2
C31: Tiết 3.4
C32: Tiết 5.6
A33: PHÒNG/ TIẾT
A34: THỨ 6 | B34: SÁNG | C34: Tiết 1.2
C35: Tiết 3.4
C36: Tiết 5.6
B37: CHIỀU | C37: Tiết 1.2
C38: Tiết 3.4
C39: Tiết 5.6
D41: KT. HIỆU TRƯỞNG | E41: PHÒNG ĐÀO TẠO VÀ CTHSSV | G41: NGƯỜI LẬP | I41: KT. HIỆU TRƯỞNG | J41: PHÒNG ĐÀO TẠO VÀ CTHSSV | K41: NGƯỜI LẬP
D42: PHÓ HIỆU TRƯỞNG | I42: PHÓ HIỆU TRƯỞNG
...

Sheet Liên thông K10 (đợt 2)
D1: THỜI KHÓA BIỀU LIÊN THÔNG K10 (CÁC LỚP BỔ SUNG SAU)
D2: CÓ HIỆU LỰC TỪ TUẦN 05/10/2026 ĐẾN 11/10/2026
A3: LỚP | D3: CĐ1-LTK10 | E3: CNTT1-LTK10 | F3: CH1-LTK10 | G3: CĐT1-LTK10 | H3: CO1-LTK10
D4: Điện CN (3_ T. Bình) | E4: KTSC&LRMT (3_T. Đỗ Dũng) | F4: HÀN (3_T. Thông) | G4: Cơ ĐT (6_T. Toản) | H4: CN Ô TÔ (2_T. Tuấn Anh)
A5: PHÒNG/ TIẾT | D5: P. Online | G5: P. Online
A6: THỨ 5 (học online) | B6: TỐI | C6: TG bắt đầu: 19h00 | D6: Tin học | G6: Mạng truyền thông công nghiệp
D7: (4h) | G7: (4h)
D8: C. Nga | G8: C. Hoa
A9: PHÒNG/ TIẾT | D9: P. Online | G9: P. Online
A10: THỨ 6 (học online) | B10: TỐI | C10: TG bắt đầu: 19h00 | D10: Tin học | G10: Mạng truyền thông công nghiệp
D11: (4h) | G11: (4h)
D12: C. Nga | G12: C. Hoa
A13: PHÒNG/ TIẾT | E13: P. 602
A14: THỨ 7 (học trực tiếp) | B14: SÁNG | C14: TG bắt đầu: 7h30 | E14: Tiếng Anh
E15: (4h)
E16: C. Thư
B17: CHIỀU | C17: TG bắt đầu: 13h30 | E17: Tiếng Anh
E18: (4h)
E19: C. Thư
A20: PHÒNG/ TIẾT | E20: P. 602
A21: CN (học trực tiếp) | B21: SÁNG | C21: TG bắt đầu: 7h30 | E21: Tiếng Anh
E22: (4h)
E23: C. Thư
B24: CHIỀU | C24: TG bắt đầu: 13h30 | E24: Tiếng Anh
E25: (4h)
E26: C. Thư
D27: * ĐN các GV dạy online gửi đường link phòng học cho thầy Lãng, các GVCN chủ động SHL (tối thiểu 2 tuần 1 buổi).
D28: KT. HIỆU TRƯỞNG | E28: PHÒNG ĐÀO TẠO VÀ CTHSSV | H28: NGƯỜI LẬP
D29: PHÓ HIỆU TRƯỞNG
D33: Ngô Trọng Tuyến | E33: Vũ Xuân Lãng | H33: Phạm Thanh Tâm

Sheet Liên thông K11
D1: THỜI KHÓA BIỀU LIÊN THÔNG K11 (1) | H1: THỜI KHÓA BIỀU LIÊN THÔNG K11 (2)
D2: CÓ HIỆU LỰC TỪ TUẦN 05/10/2026 ĐẾN 11/10/2026 | H2: CÓ HIỆU LỰC TỪ TUẦN 05/10/2026 ĐẾN 11/10/2026
A3: LỚP | D3: CĐ-LTK11 | E3: CDD-LTK11 | F3: CĐT-LTK11 | G3: CCG-LTK11 | H3: CNTT-LTK11 | I3: CĐL-LTK11 | J3: CO-LTK11
D4: Điện CN (37_ T. Đặng Dũng) | E4: Điện dân dụng (9_C. Dung) | F4: Cơ điện tử (15_T. Giang) | G4: Cắt gọt KL (9_C. Nguyệt) | H4: KTSC& LRMT (32_T. Đỗ Dũng) | I4: KTML& ĐHKK (25_T. Trình) | J4: CN Ô TÔ (37_ T. Long)
A5: PHÒNG/ TIẾT | D5: P. Online | E5: P. Online (GHÉP) | H5: P. Online | I5: P. Online | J5: P. Online
A6: THỨ 5 (học online) | B6: TỐI | C6: TG bắt đầu: 19h00 | D6: GD chính trị | E6: Pháp luật | H6: Tiếng Anh | I6: GD chính trị | J6: Tiếng Anh
D7: (4h) | E7: (4h) | H7: (4h) | I7: (4h) | J7: (4h)
D8: C. Thúy | E8: C. Hà | H8: C. Thư | I8: C. Lan | J8: C. Huế
A9: PHÒNG/ TIẾT | D9: P. Online | E9: P. Online (GHÉP) | H9: P. Online | I9: P. Online | J9: P. Online
A10: THỨ 6 (học online) | B10: TỐI | C10: TG bắt đầu: 19h00 | D10: Tiếng Anh | E10: GD chính trị | H10: Pháp luật | I10: Tiếng Anh | J10: GD chính trị
D11: (4h) | E11: (4h) | H11: (4h) | I11: (4h) | J11: (4h)
D12: C. Ngô Hiền | E12: C. Thúy | H12: C. Hà | I12: C. Thư | J12: C. Lan
A13: PHÒNG/ TIẾT | D13: P. THCB tầng 5 | E13: P. Truyền động điện - T3 | F13: P. ƯDCĐT - T3 | G13: Xưởng tiện | H13: P. THNC tầng 4 | I13: P. NH THỂ CHẤT | J13: P. TH Đ cơ -Tầng 2 nhà CNC và MO Xưởng C
A14: THỨ 7 (học trực tiếp) | B14: SÁNG | C14: TG bắt đầu: 7h30 | D14: Auto CAD | E14: Điều khiển điện khí nén | F14: Lập trình ĐK robot công nghiệp | G14: Tiện Cơ bản | H14: Phân tích và thiết kế hệ thống mạng | I14: GD thể chất | J14: Chẩn đoán trạng thái kỹ thuật ô tô
D15: (4h) | E15: (4h) | F15: (4h) | G15: (4h) | H15: (4h) | I15: (4h) | J15: (4h)
D16: T. Đặng Dũng | E16: T. Nghĩa | F16: T. Nam | G16: T. Hà | H16: C. Nhung | I16: T. Thao | J16: T. Long
B17: CHIỀU | C17: TG bắt đầu: 13h30 | D17: Auto CAD | E17: Điều khiển điện khí nén | F17: Lập trình ĐK robot công nghiệp | G17: Tiện Cơ bản | H17: GD thể chất | I17: LĐ HT máy lạnh thương nghiệp 2 | J17: Chẩn đoán trạng thái kỹ thuật ô tô
D18: (4h) | E18: (4h) | F18: (4h) | G18: (4h) | H18: (4h) | I18: (4h) | J18: (4h)
D19: T. Đặng Dũng | E19: T. Nghĩa | F19: T. Nam | G19: T. Hà | H19: T. Thao (NHTC) | I19: T. Toản (P.THMLDD&TM Tầng7-NĐN) | J19: T. Long
A20: PHÒNG/ TIẾT | D20: P. KT LĐ Đ | E20: P. LĐ thiết bị dùng nước- T2 NĐN | F20: P. Truyền động điện - T3 | G20: P. THCK1 | H20: P. THCB | I20: P. NH THỂ CHẤT | J20: P. 603
A21: CN (học trực tiếp) | B21: SÁNG | C21: TG bắt đầu: 7h30 | D21: Lắp đặt tủ điện | E21: SCBD ĐC điện vạn năng | F21: Truyền động điện | G21: Nguội cơ bản | H21: Bảo trì máy tính | I21: GD thể chất | J21: Tiếng Anh
D22: (4h) | E22: (4h) | F22: (4h) | G22: (4h) | H22: (4h) C. Huyền | I22: (4h) | J22: (4h)
D23: T. Đặng Dũng | E23: T. Diệp | F23: C. Hoa | G23: T. NM Hùng | I23: T. Thao | J23: C. Huế
B24: CHIỀU | C24: TG bắt đầu: 13h30 | D24: Lắp đặt tủ điện | E24: SCBD ĐC điện vạn năng | F24: Truyền động điện | G24: Nguội cơ bản | H24: GD thể chất | I24: LĐ HT máy lạnh thương nghiệp 2 | J24: Tiếng Anh
D25: (4h) | E25: (4h) | F25: (4h) | G25: (4h) | H25: (4h) | I25: (4h) | J25: (4h)
D26: T. Đặng Dũng | E26: T. Diệp | F26: C. Hoa | G26: T. NM Hùng | H26: T. Thao (NHTC) | I26: T. Toản (P.THMLDD&TM Tầng7-NĐN) | J26: C. Huế
D27: * ĐN các GV dạy online gửi đường link phòng học cho thầy Lãng, các GVCN chủ động SHL (tối thiểu 2 tuần 1 buổi). | H27: * ĐN các GV dạy online gửi đường link phòng học cho thầy Lãng, các GVCN chủ động SHL (tối thiểu 2 tuần 1 buổi).
D28: KT. HIỆU TRƯỞNG | E28: PHÒNG ĐÀO TẠO VÀ CTHSSV | G28: NGƯỜI LẬP | H28: KT. HIỆU TRƯỞNG | I28: PHÒNG ĐÀO TẠO VÀ CTHSSV | J28: NGƯỜI LẬP
D29: PHÓ HIỆU TRƯỞNG | H29: PHÓ HIỆU TRƯỞNG
D33: Ngô Trọng Tuyến | E33: Vũ Xuân Lãng | G33: Phạm Thanh Tâm | H33: Ngô Trọng Tuyến | I33: Vũ Xuân Lãng | J33: Phạm Thanh Tâm
